BEGIN:VCALENDAR
VERSION:2.0
PRODID:-//BlissPlanet//Bliss Ecstatic Dance 2026//DE
CALSCALE:GREGORIAN
METHOD:PUBLISH
BEGIN:VEVENT
UID:2a037588-7972-41b9-9c74-c267b975f75c@blissplanet.at
DTSTAMP:20260102T121354Z
DTSTART;TZID=Europe/Vienna:20260117T160000
DTEND;TZID=Europe/Vienna:20260117T220000
SUMMARY:Bliss Ecstatic Dance
LOCATION:Pfarre Akkonplatz, Akkonplatz 1, 1150 Wien, Österreich
DESCRIPTION:16:00–16:30 Einlass & Ankommen (Kakao)\n16:30–18:00 Kakao-Zerem
 onie\n18:00–18:30 Einlass & Ankommen (Ecstatic Dance)\n18:30–18:45 Into Mo
 vement Tanzeinleitung\n18:45–21:00 Ecstatic Dance\n21:00–21:30 Soundhealin
 g\n21:30–22:00 Nachspüren, im eigenen Tempo auf den Weg machen
END:VEVENT
BEGIN:VEVENT
UID:63fae92e-0015-4896-9557-bbd438c4e25b@blissplanet.at
DTSTAMP:20260102T121354Z
DTSTART;TZID=Europe/Vienna:20260207T160000
DTEND;TZID=Europe/Vienna:20260207T220000
SUMMARY:Bliss Ecstatic Dance
LOCATION:Pfarre Akkonplatz, Akkonplatz 1, 1150 Wien, Österreich
DESCRIPTION:16:00–16:30 Einlass & Ankommen (Kakao)\n16:30–18:00 Kakao-Zerem
 onie\n18:00–18:30 Einlass & Ankommen (Ecstatic Dance)\n18:30–18:45 Into Mo
 vement Tanzeinleitung\n18:45–21:00 Ecstatic Dance\n21:00–21:30 Soundhealin
 g\n21:30–22:00 Nachspüren, im eigenen Tempo auf den Weg machen
END:VEVENT
BEGIN:VEVENT
UID:55677cc5-9cfc-4ab4-b47b-1b954d884fe5@blissplanet.at
DTSTAMP:20260102T121354Z
DTSTART;TZID=Europe/Vienna:20260314T160000
DTEND;TZID=Europe/Vienna:20260314T220000
SUMMARY:Bliss Ecstatic Dance
LOCATION:Pfarre Akkonplatz, Akkonplatz 1, 1150 Wien, Österreich
DESCRIPTION:16:00–16:30 Einlass & Ankommen (Kakao)\n16:30–18:00 Kakao-Zerem
 onie\n18:00–18:30 Einlass & Ankommen (Ecstatic Dance)\n18:30–18:45 Into Mo
 vement Tanzeinleitung\n18:45–21:00 Ecstatic Dance\n21:00–21:30 Soundhealin
 g\n21:30–22:00 Nachspüren, im eigenen Tempo auf den Weg machen
END:VEVENT
BEGIN:VEVENT
UID:11c5106b-0ad4-40c8-b265-611cace54bf8@blissplanet.at
DTSTAMP:20260102T121354Z
DTSTART;TZID=Europe/Vienna:20260411T160000
DTEND;TZID=Europe/Vienna:20260411T220000
SUMMARY:Bliss Ecstatic Dance
LOCATION:Pfarre Akkonplatz, Akkonplatz 1, 1150 Wien, Österreich
DESCRIPTION:16:00–16:30 Einlass & Ankommen (Kakao)\n16:30–18:00 Kakao-Zerem
 onie\n18:00–18:30 Einlass & Ankommen (Ecstatic Dance)\n18:30–18:45 Into Mo
 vement Tanzeinleitung\n18:45–21:00 Ecstatic Dance\n21:00–21:30 Soundhealin
 g\n21:30–22:00 Nachspüren, im eigenen Tempo auf den Weg machen
END:VEVENT
BEGIN:VEVENT
UID:14ff7fc8-da2f-4fdf-b23a-c857e959c0ed@blissplanet.at
DTSTAMP:20260102T121354Z
DTSTART;TZID=Europe/Vienna:20260515T160000
DTEND;TZID=Europe/Vienna:20260515T220000
SUMMARY:Bliss Ecstatic Dance
LOCATION:Pfarre Akkonplatz, Akkonplatz 1, 1150 Wien, Österreich
DESCRIPTION:16:00–16:30 Einlass & Ankommen (Kakao)\n16:30–18:00 Kakao-Zerem
 onie\n18:00–18:30 Einlass & Ankommen (Ecstatic Dance)\n18:30–18:45 Into Mo
 vement Tanzeinleitung\n18:45–21:00 Ecstatic Dance\n21:00–21:30 Soundhealin
 g\n21:30–22:00 Nachspüren, im eigenen Tempo auf den Weg machen
END:VEVENT
BEGIN:VEVENT
UID:64e708d1-2144-4bf2-89bf-c4e5844ba6e7@blissplanet.at
DTSTAMP:20260102T121354Z
DTSTART;TZID=Europe/Vienna:20260606T160000
DTEND;TZID=Europe/Vienna:20260606T220000
SUMMARY:Bliss Ecstatic Dance
LOCATION:Pfarre Akkonplatz, Akkonplatz 1, 1150 Wien, Österreich
DESCRIPTION:16:00–16:30 Einlass & Ankommen (Kakao)\n16:30–18:00 Kakao-Zerem
 onie\n18:00–18:30 Einlass & Ankommen (Ecstatic Dance)\n18:30–18:45 Into Mo
 vement Tanzeinleitung\n18:45–21:00 Ecstatic Dance\n21:00–21:30 Soundhealin
 g\n21:30–22:00 Nachspüren, im eigenen Tempo auf den Weg machen
END:VEVENT
BEGIN:VEVENT
UID:40e82352-b26f-4b00-8dde-c803e9d1c194@blissplanet.at
DTSTAMP:20260102T121354Z
DTSTART;TZID=Europe/Vienna:20260919T160000
DTEND;TZID=Europe/Vienna:20260919T220000
SUMMARY:Bliss Ecstatic Dance
LOCATION:Pfarre Akkonplatz, Akkonplatz 1, 1150 Wien, Österreich
DESCRIPTION:16:00–16:30 Einlass & Ankommen (Kakao)\n16:30–18:00 Kakao-Zerem
 onie\n18:00–18:30 Einlass & Ankommen (Ecstatic Dance)\n18:30–18:45 Into Mo
 vement Tanzeinleitung\n18:45–21:00 Ecstatic Dance\n21:00–21:30 Soundhealin
 g\n21:30–22:00 Nachspüren, im eigenen Tempo auf den Weg machen
END:VEVENT
BEGIN:VEVENT
UID:845df080-751f-4bb3-a042-474b0e815409@blissplanet.at
DTSTAMP:20260102T121354Z
DTSTART;TZID=Europe/Vienna:20261017T160000
DTEND;TZID=Europe/Vienna:20261017T220000
SUMMARY:Bliss Ecstatic Dance
LOCATION:Pfarre Akkonplatz, Akkonplatz 1, 1150 Wien, Österreich
DESCRIPTION:16:00–16:30 Einlass & Ankommen (Kakao)\n16:30–18:00 Kakao-Zerem
 onie\n18:00–18:30 Einlass & Ankommen (Ecstatic Dance)\n18:30–18:45 Into Mo
 vement Tanzeinleitung\n18:45–21:00 Ecstatic Dance\n21:00–21:30 Soundhealin
 g\n21:30–22:00 Nachspüren, im eigenen Tempo auf den Weg machen
END:VEVENT
BEGIN:VEVENT
UID:235f390c-b766-4b0b-8d31-a2188d1a71c1@blissplanet.at
DTSTAMP:20260102T121354Z
DTSTART;TZID=Europe/Vienna:20261114T160000
DTEND;TZID=Europe/Vienna:20261114T220000
SUMMARY:Bliss Ecstatic Dance
LOCATION:Pfarre Akkonplatz, Akkonplatz 1, 1150 Wien, Österreich
DESCRIPTION:16:00–16:30 Einlass & Ankommen (Kakao)\n16:30–18:00 Kakao-Zerem
 onie\n18:00–18:30 Einlass & Ankommen (Ecstatic Dance)\n18:30–18:45 Into Mo
 vement Tanzeinleitung\n18:45–21:00 Ecstatic Dance\n21:00–21:30 Soundhealin
 g\n21:30–22:00 Nachspüren, im eigenen Tempo auf den Weg machen
END:VEVENT
BEGIN:VEVENT
UID:ce02d6ca-fdc2-4422-aeff-076fea2b4124@blissplanet.at
DTSTAMP:20260102T121354Z
DTSTART;TZID=Europe/Vienna:20261212T160000
DTEND;TZID=Europe/Vienna:20261212T220000
SUMMARY:Bliss Ecstatic Dance
LOCATION:Pfarre Akkonplatz, Akkonplatz 1, 1150 Wien, Österreich
DESCRIPTION:16:00–16:30 Einlass & Ankommen (Kakao)\n16:30–18:00 Kakao-Zerem
 onie\n18:00–18:30 Einlass & Ankommen (Ecstatic Dance)\n18:30–18:45 Into Mo
 vement Tanzeinleitung\n18:45–21:00 Ecstatic Dance\n21:00–21:30 Soundhealin
 g\n21:30–22:00 Nachspüren, im eigenen Tempo auf den Weg machen
END:VEVENT
END:VCALENDAR
